BEGIN:VCALENDAR
VERSION:2.0
PRODID:-//The Fox Inn - ECPv6.15.20//NONSGML v1.0//EN
CALSCALE:GREGORIAN
METHOD:PUBLISH
X-WR-CALNAME:The Fox Inn
X-ORIGINAL-URL:https://www.thefoxinn.com
X-WR-CALDESC:Events for The Fox Inn
REFRESH-INTERVAL;VALUE=DURATION:PT1H
X-Robots-Tag:noindex
X-PUBLISHED-TTL:PT1H
BEGIN:VTIMEZONE
TZID:Europe/London
BEGIN:DAYLIGHT
TZOFFSETFROM:+0000
TZOFFSETTO:+0100
TZNAME:BST
DTSTART:20240331T010000
END:DAYLIGHT
BEGIN:STANDARD
TZOFFSETFROM:+0100
TZOFFSETTO:+0000
TZNAME:GMT
DTSTART:20241027T010000
END:STANDARD
BEGIN:DAYLIGHT
TZOFFSETFROM:+0000
TZOFFSETTO:+0100
TZNAME:BST
DTSTART:20250330T010000
END:DAYLIGHT
BEGIN:STANDARD
TZOFFSETFROM:+0100
TZOFFSETTO:+0000
TZNAME:GMT
DTSTART:20251026T010000
END:STANDARD
BEGIN:DAYLIGHT
TZOFFSETFROM:+0000
TZOFFSETTO:+0100
TZNAME:BST
DTSTART:20260329T010000
END:DAYLIGHT
BEGIN:STANDARD
TZOFFSETFROM:+0100
TZOFFSETTO:+0000
TZNAME:GMT
DTSTART:20261025T010000
END:STANDARD
END:VTIMEZONE
BEGIN:VEVENT
DTSTART;TZID=Europe/London:20250614T150000
DTEND;TZID=Europe/London:20250614T233000
DTSTAMP:20260423T060914
CREATED:20250531T135223Z
LAST-MODIFIED:20250531T135223Z
UID:10000068-1749913200-1749943800@www.thefoxinn.com
SUMMARY:One Year Anniversary
DESCRIPTION:Join us for our one year celebrations. Music and food all day in the beer garden. \n3pm til late.
URL:https://www.thefoxinn.com/event/one-year-anniversary/
ATTACH;FMTTYPE=image/jpeg:https://www.thefoxinn.com/wp-content/uploads/2025/05/event-anniversary.jpg
END:VEVENT
END:VCALENDAR